Package: Basic4Cseq Version: 1.47.0 Command: rm -rf Basic4Cseq.buildbin-libdir && mkdir Basic4Cseq.buildbin-libdir && /Users/biocbuild/BBS/utils/build-universal.sh Basic4Cseq_1.47.0.tar.gz /Library/Frameworks/R.framework/Resources/bin/R Basic4Cseq.buildbin-libdir StartedAt: 2025-11-23 23:26:27 -0500 (Sun, 23 Nov 2025) EndedAt: 2025-11-23 23:26:45 -0500 (Sun, 23 Nov 2025) EllapsedTime: 18.6 seconds RetCode: 0 Status: OK PackageFile: Basic4Cseq_1.47.0.tgz PackageFileSize: 777.7 KiB