Package: Basic4Cseq Version: 1.47.0 Command: /Library/Frameworks/R.framework/Resources/bin/R CMD INSTALL Basic4Cseq StartedAt: 2025-11-23 15:18:44 -0500 (Sun, 23 Nov 2025) EndedAt: 2025-11-23 15:18:59 -0500 (Sun, 23 Nov 2025) EllapsedTime: 14.4 seconds RetCode: 0 Status: OK