Package: BasicSTARRseq Version: 1.39.0 Command: /Library/Frameworks/R.framework/Resources/bin/R CMD INSTALL BasicSTARRseq StartedAt: 2025-11-18 15:26:26 -0500 (Tue, 18 Nov 2025) EndedAt: 2025-11-18 15:26:37 -0500 (Tue, 18 Nov 2025) EllapsedTime: 10.5 seconds RetCode: 0 Status: OK