Package: BioMVCClass Version: 1.79.0 Command: rm -rf BioMVCClass.buildbin-libdir && mkdir BioMVCClass.buildbin-libdir && /Users/biocbuild/BBS/utils/build-universal.sh BioMVCClass_1.79.0.tar.gz /Library/Frameworks/R.framework/Resources/bin/R BioMVCClass.buildbin-libdir StartedAt: 2025-11-19 23:25:48 -0500 (Wed, 19 Nov 2025) EndedAt: 2025-11-19 23:25:51 -0500 (Wed, 19 Nov 2025) EllapsedTime: 3.1 seconds RetCode: 0 Status: OK PackageFile: BioMVCClass_1.79.0.tgz PackageFileSize: 145.1 KiB