Package: BioMVCClass Version: 1.79.0 Command: /Library/Frameworks/R.framework/Resources/bin/R CMD build --keep-empty-dirs --no-resave-data BioMVCClass StartedAt: 2025-11-19 15:46:51 -0500 (Wed, 19 Nov 2025) EndedAt: 2025-11-19 15:46:55 -0500 (Wed, 19 Nov 2025) EllapsedTime: 4.0 seconds RetCode: 0 Status: OK PackageFile: BioMVCClass_1.79.0.tar.gz PackageFileSize: 131.3 KiB