Package: BioMVCClass Version: 1.79.0 Command: /Library/Frameworks/R.framework/Resources/bin/R CMD build --keep-empty-dirs --no-resave-data BioMVCClass StartedAt: 2025-11-19 16:17:20 -0500 (Wed, 19 Nov 2025) EndedAt: 2025-11-19 16:17:33 -0500 (Wed, 19 Nov 2025) EllapsedTime: 12.6 seconds RetCode: 0 Status: OK PackageFile: BioMVCClass_1.79.0.tar.gz PackageFileSize: 130.8 KiB