Package: BioMVCClass Version: 1.79.0 Command: /Library/Frameworks/R.framework/Resources/bin/R CMD INSTALL BioMVCClass StartedAt: 2025-11-19 15:25:55 -0500 (Wed, 19 Nov 2025) EndedAt: 2025-11-19 15:26:03 -0500 (Wed, 19 Nov 2025) EllapsedTime: 7.4 seconds RetCode: 0 Status: OK