Package: BioTIP Version: 1.25.0 Command: rm -rf BioTIP.buildbin-libdir && mkdir BioTIP.buildbin-libdir && /Users/biocbuild/BBS/utils/build-universal.sh BioTIP_1.25.0.tar.gz /Library/Frameworks/R.framework/Resources/bin/R BioTIP.buildbin-libdir StartedAt: 2025-11-19 23:25:51 -0500 (Wed, 19 Nov 2025) EndedAt: 2025-11-19 23:25:59 -0500 (Wed, 19 Nov 2025) EllapsedTime: 8.2 seconds RetCode: 0 Status: OK PackageFile: BioTIP_1.25.0.tgz PackageFileSize: 7.182 MiB