Package: BioTIP Version: 1.25.0 Command: /Library/Frameworks/R.framework/Resources/bin/R CMD build --keep-empty-dirs --no-resave-data BioTIP StartedAt: 2025-11-19 15:47:23 -0500 (Wed, 19 Nov 2025) EndedAt: 2025-11-19 15:48:02 -0500 (Wed, 19 Nov 2025) EllapsedTime: 39.4 seconds RetCode: 0 Status: OK PackageFile: BioTIP_1.25.0.tar.gz PackageFileSize: 8.853 MiB