Package: BioTIP Version: 1.25.0 Command: /Library/Frameworks/R.framework/Resources/bin/R CMD INSTALL BioTIP StartedAt: 2025-11-19 15:30:44 -0500 (Wed, 19 Nov 2025) EndedAt: 2025-11-19 15:30:49 -0500 (Wed, 19 Nov 2025) EllapsedTime: 5.2 seconds RetCode: 0 Status: OK