Package: BioTIP Version: 1.25.0 Command: /Library/Frameworks/R.framework/Resources/bin/R CMD build --keep-empty-dirs --no-resave-data BioTIP StartedAt: 2025-11-19 16:17:52 -0500 (Wed, 19 Nov 2025) EndedAt: 2025-11-19 16:19:46 -0500 (Wed, 19 Nov 2025) EllapsedTime: 114.3 seconds RetCode: 0 Status: OK PackageFile: BioTIP_1.25.0.tar.gz PackageFileSize: 8.864 MiB