Package: BioTIP Version: 1.25.0 Command: /Library/Frameworks/R.framework/Resources/bin/R CMD INSTALL BioTIP StartedAt: 2025-11-20 15:49:07 -0500 (Thu, 20 Nov 2025) EndedAt: 2025-11-20 15:49:23 -0500 (Thu, 20 Nov 2025) EllapsedTime: 16.4 seconds RetCode: 0 Status: OK