Package: BiocFileCache Version: 3.1.0 Command: /Library/Frameworks/R.framework/Resources/bin/R CMD build --keep-empty-dirs --no-resave-data BiocFileCache StartedAt: 2025-11-19 15:46:09 -0500 (Wed, 19 Nov 2025) EndedAt: 2025-11-19 15:47:25 -0500 (Wed, 19 Nov 2025) EllapsedTime: 75.8 seconds RetCode: 0 Status: OK PackageFile: BiocFileCache_3.1.0.tar.gz PackageFileSize: 725.8 KiB