Package: BiocFileCache Version: 3.1.0 Command: /Library/Frameworks/R.framework/Resources/bin/R CMD INSTALL BiocFileCache StartedAt: 2025-11-19 15:06:53 -0500 (Wed, 19 Nov 2025) EndedAt: 2025-11-19 15:06:56 -0500 (Wed, 19 Nov 2025) EllapsedTime: 3.5 seconds RetCode: 0 Status: OK