Package: BiocFileCache Version: 3.1.0 Command: /Library/Frameworks/R.framework/Resources/bin/R CMD build --keep-empty-dirs --no-resave-data BiocFileCache StartedAt: 2025-11-19 16:15:36 -0500 (Wed, 19 Nov 2025) EndedAt: 2025-11-19 16:18:14 -0500 (Wed, 19 Nov 2025) EllapsedTime: 157.9 seconds RetCode: 0 Status: OK PackageFile: BiocFileCache_3.1.0.tar.gz PackageFileSize: 725.4 KiB