Package: BiocFileCache Version: 3.1.0 Command: /home/biocbuild/bbs-3.23-bioc/R/bin/R CMD build --keep-empty-dirs --no-resave-data BiocFileCache StartedAt: 2025-11-19 16:30:58 -0500 (Wed, 19 Nov 2025) EndedAt: 2025-11-19 16:32:43 -0500 (Wed, 19 Nov 2025) EllapsedTime: 105.2 seconds RetCode: 0 Status: OK PackageFile: BiocFileCache_3.1.0.tar.gz PackageFileSize: 725.7 KiB