Package: BiocFileCache Version: 3.1.0 Command: /home/biocbuild/bbs-3.23-bioc/R/bin/R CMD INSTALL BiocFileCache StartedAt: 2025-11-19 15:12:36 -0500 (Wed, 19 Nov 2025) EndedAt: 2025-11-19 15:12:45 -0500 (Wed, 19 Nov 2025) EllapsedTime: 8.5 seconds RetCode: 0 Status: OK