Package: BiocParallel Version: 1.45.0 Command: /Library/Frameworks/R.framework/Resources/bin/R CMD INSTALL BiocParallel StartedAt: 2025-11-18 15:13:18 -0500 (Tue, 18 Nov 2025) EndedAt: 2025-11-18 15:13:32 -0500 (Tue, 18 Nov 2025) EllapsedTime: 13.9 seconds RetCode: 0 Status: OK