Package: BiocParallel Version: 1.45.0 Command: rm -rf BiocParallel.buildbin-libdir && mkdir BiocParallel.buildbin-libdir && /Users/biocbuild/BBS/utils/build-universal.sh BiocParallel_1.45.0.tar.gz /Library/Frameworks/R.framework/Resources/bin/R BiocParallel.buildbin-libdir StartedAt: 2025-11-20 01:23:04 -0500 (Thu, 20 Nov 2025) EndedAt: 2025-11-20 01:23:41 -0500 (Thu, 20 Nov 2025) EllapsedTime: 37.0 seconds RetCode: 0 Status: OK PackageFile: BiocParallel_1.45.0.tgz PackageFileSize: 1.601 MiB