Package: BiocParallel Version: 1.45.0 Command: /Library/Frameworks/R.framework/Resources/bin/R CMD build --keep-empty-dirs --no-resave-data BiocParallel StartedAt: 2025-11-19 16:16:10 -0500 (Wed, 19 Nov 2025) EndedAt: 2025-11-19 16:18:14 -0500 (Wed, 19 Nov 2025) EllapsedTime: 123.6 seconds RetCode: 0 Status: OK PackageFile: BiocParallel_1.45.0.tar.gz PackageFileSize: 1.051 MiB