Package: BiocParallel Version: 1.45.0 Command: /Library/Frameworks/R.framework/Resources/bin/R CMD INSTALL BiocParallel StartedAt: 2025-11-19 15:13:15 -0500 (Wed, 19 Nov 2025) EndedAt: 2025-11-19 15:13:50 -0500 (Wed, 19 Nov 2025) EllapsedTime: 35.8 seconds RetCode: 0 Status: OK