Package: BiocParallel Version: 1.45.0 Command: /home/biocbuild/bbs-3.23-bioc/R/bin/R CMD build --keep-empty-dirs --no-resave-data BiocParallel StartedAt: 2025-11-18 17:20:52 -0500 (Tue, 18 Nov 2025) EndedAt: 2025-11-18 17:22:19 -0500 (Tue, 18 Nov 2025) EllapsedTime: 87.1 seconds RetCode: 0 Status: OK PackageFile: BiocParallel_1.45.0.tar.gz PackageFileSize: 1.052 MiB