Package: BiocParallel Version: 1.45.0 Command: /home/biocbuild/bbs-3.23-bioc/R/bin/R CMD INSTALL BiocParallel StartedAt: 2025-11-19 15:07:49 -0500 (Wed, 19 Nov 2025) EndedAt: 2025-11-19 15:08:03 -0500 (Wed, 19 Nov 2025) EllapsedTime: 14.1 seconds RetCode: 0 Status: OK