Package: BiocWorkflowTools Version: 1.37.0 Command: /Library/Frameworks/R.framework/Resources/bin/R CMD build --keep-empty-dirs --no-resave-data BiocWorkflowTools StartedAt: 2025-11-18 15:55:32 -0500 (Tue, 18 Nov 2025) EndedAt: 2025-11-18 15:55:35 -0500 (Tue, 18 Nov 2025) EllapsedTime: 3.0 seconds RetCode: 0 Status: OK PackageFile: BiocWorkflowTools_1.37.0.tar.gz PackageFileSize: 975.1 KiB