Package: BiocWorkflowTools Version: 1.37.0 Command: /Library/Frameworks/R.framework/Resources/bin/R CMD INSTALL BiocWorkflowTools StartedAt: 2025-11-18 15:17:14 -0500 (Tue, 18 Nov 2025) EndedAt: 2025-11-18 15:17:19 -0500 (Tue, 18 Nov 2025) EllapsedTime: 4.5 seconds RetCode: 0 Status: OK