Package: BloodGen3Module Version: 1.19.0 Command: /Library/Frameworks/R.framework/Resources/bin/R CMD build --keep-empty-dirs --no-resave-data BloodGen3Module StartedAt: 2025-11-18 15:56:57 -0500 (Tue, 18 Nov 2025) EndedAt: 2025-11-18 15:57:26 -0500 (Tue, 18 Nov 2025) EllapsedTime: 29.3 seconds RetCode: 0 Status: OK PackageFile: BloodGen3Module_1.19.0.tar.gz PackageFileSize: 178.7 KiB