Package: BloodGen3Module Version: 1.19.0 Command: /Library/Frameworks/R.framework/Resources/bin/R CMD build --keep-empty-dirs --no-resave-data BloodGen3Module StartedAt: 2025-11-18 16:15:17 -0500 (Tue, 18 Nov 2025) EndedAt: 2025-11-18 16:16:37 -0500 (Tue, 18 Nov 2025) EllapsedTime: 80.1 seconds RetCode: 0 Status: OK PackageFile: BloodGen3Module_1.19.0.tar.gz PackageFileSize: 178.8 KiB