Package: BloodGen3Module Version: 1.19.0 Command: /Library/Frameworks/R.framework/Resources/bin/R CMD INSTALL BloodGen3Module StartedAt: 2025-11-18 15:27:08 -0500 (Tue, 18 Nov 2025) EndedAt: 2025-11-18 15:27:53 -0500 (Tue, 18 Nov 2025) EllapsedTime: 44.3 seconds RetCode: 0 Status: OK