Package: BubbleTree Version: 2.41.0 Command: /Library/Frameworks/R.framework/Resources/bin/R CMD build --keep-empty-dirs --no-resave-data BubbleTree StartedAt: 2025-11-18 15:58:14 -0500 (Tue, 18 Nov 2025) EndedAt: 2025-11-18 15:58:44 -0500 (Tue, 18 Nov 2025) EllapsedTime: 30.3 seconds RetCode: 1 Status: ERROR PackageFile: None PackageFileSize: NA