Package: BubbleTree Version: 2.41.0 Command: /Library/Frameworks/R.framework/Resources/bin/R CMD INSTALL BubbleTree StartedAt: 2025-11-18 15:34:03 -0500 (Tue, 18 Nov 2025) EndedAt: 2025-11-18 15:34:24 -0500 (Tue, 18 Nov 2025) EllapsedTime: 20.7 seconds RetCode: 0 Status: OK