Package: BubbleTree Version: 2.41.0 Command: /Library/Frameworks/R.framework/Resources/bin/R CMD INSTALL BubbleTree StartedAt: 2025-11-19 15:45:10 -0500 (Wed, 19 Nov 2025) EndedAt: 2025-11-19 15:46:19 -0500 (Wed, 19 Nov 2025) EllapsedTime: 68.3 seconds RetCode: 0 Status: OK