Package: BubbleTree Version: 2.41.0 Command: /home/biocbuild/bbs-3.23-bioc/R/bin/R CMD build --keep-empty-dirs --no-resave-data BubbleTree StartedAt: 2025-11-18 17:26:38 -0500 (Tue, 18 Nov 2025) EndedAt: 2025-11-18 17:27:55 -0500 (Tue, 18 Nov 2025) EllapsedTime: 77.1 seconds RetCode: 1 Status: ERROR PackageFile: None PackageFileSize: NA