Package: BubbleTree Version: 2.41.0 Command: /home/biocbuild/bbs-3.23-bioc/R/bin/R CMD INSTALL BubbleTree StartedAt: 2025-11-19 15:48:01 -0500 (Wed, 19 Nov 2025) EndedAt: 2025-11-19 15:48:54 -0500 (Wed, 19 Nov 2025) EllapsedTime: 52.0 seconds RetCode: 0 Status: OK