Package: BufferedMatrixMethods Version: 1.75.0 Command: /Library/Frameworks/R.framework/Resources/bin/R CMD build --keep-empty-dirs --no-resave-data BufferedMatrixMethods StartedAt: 2025-11-19 15:49:17 -0500 (Wed, 19 Nov 2025) EndedAt: 2025-11-19 15:49:18 -0500 (Wed, 19 Nov 2025) EllapsedTime: 1.0 seconds RetCode: 0 Status: OK PackageFile: BufferedMatrixMethods_1.75.0.tar.gz PackageFileSize: 10.85 KiB