Package: BufferedMatrixMethods Version: 1.75.0 Command: /Library/Frameworks/R.framework/Resources/bin/R CMD INSTALL BufferedMatrixMethods StartedAt: 2025-11-19 15:03:15 -0500 (Wed, 19 Nov 2025) EndedAt: 2025-11-19 15:03:19 -0500 (Wed, 19 Nov 2025) EllapsedTime: 4.2 seconds RetCode: 0 Status: OK