Package: BufferedMatrixMethods Version: 1.75.0 Command: rm -rf BufferedMatrixMethods.buildbin-libdir && mkdir BufferedMatrixMethods.buildbin-libdir && /Users/biocbuild/BBS/utils/build-universal.sh BufferedMatrixMethods_1.75.0.tar.gz /Library/Frameworks/R.framework/Resources/bin/R BufferedMatrixMethods.buildbin-libdir StartedAt: 2025-11-20 01:24:00 -0500 (Thu, 20 Nov 2025) EndedAt: 2025-11-20 01:24:11 -0500 (Thu, 20 Nov 2025) EllapsedTime: 10.5 seconds RetCode: 0 Status: OK PackageFile: BufferedMatrixMethods_1.75.0.tgz PackageFileSize: 53.27 KiB