Package: BufferedMatrixMethods Version: 1.75.0 Command: /Library/Frameworks/R.framework/Resources/bin/R CMD build --keep-empty-dirs --no-resave-data BufferedMatrixMethods StartedAt: 2025-11-19 16:20:45 -0500 (Wed, 19 Nov 2025) EndedAt: 2025-11-19 16:20:46 -0500 (Wed, 19 Nov 2025) EllapsedTime: 1.1 seconds RetCode: 0 Status: OK PackageFile: BufferedMatrixMethods_1.75.0.tar.gz PackageFileSize: 10.84 KiB