Package: BufferedMatrixMethods Version: 1.75.0 Command: /Library/Frameworks/R.framework/Resources/bin/R CMD INSTALL BufferedMatrixMethods StartedAt: 2025-11-19 15:11:52 -0500 (Wed, 19 Nov 2025) EndedAt: 2025-11-19 15:12:28 -0500 (Wed, 19 Nov 2025) EllapsedTime: 36.4 seconds RetCode: 0 Status: OK