Package: BumpyMatrix Version: 1.19.0 Command: /Library/Frameworks/R.framework/Resources/bin/R CMD build --keep-empty-dirs --no-resave-data BumpyMatrix StartedAt: 2025-11-19 15:49:37 -0500 (Wed, 19 Nov 2025) EndedAt: 2025-11-19 15:49:47 -0500 (Wed, 19 Nov 2025) EllapsedTime: 9.1 seconds RetCode: 0 Status: OK PackageFile: BumpyMatrix_1.19.0.tar.gz PackageFileSize: 317.4 KiB