Package: BumpyMatrix Version: 1.19.0 Command: /Library/Frameworks/R.framework/Resources/bin/R CMD INSTALL BumpyMatrix StartedAt: 2025-11-19 15:09:22 -0500 (Wed, 19 Nov 2025) EndedAt: 2025-11-19 15:09:27 -0500 (Wed, 19 Nov 2025) EllapsedTime: 5.2 seconds RetCode: 0 Status: OK