Package: CBNplot Version: 1.11.0 Command: rm -rf CBNplot.buildbin-libdir && mkdir CBNplot.buildbin-libdir && /Users/biocbuild/BBS/utils/build-universal.sh CBNplot_1.11.0.tar.gz /Library/Frameworks/R.framework/Resources/bin/R CBNplot.buildbin-libdir StartedAt: 2025-11-19 23:26:56 -0500 (Wed, 19 Nov 2025) EndedAt: 2025-11-19 23:27:11 -0500 (Wed, 19 Nov 2025) EllapsedTime: 15.3 seconds RetCode: 0 Status: OK PackageFile: CBNplot_1.11.0.tgz PackageFileSize: 1.189 MiB