Package: CBNplot Version: 1.11.0 Command: rm -rf CBNplot.buildbin-libdir && mkdir CBNplot.buildbin-libdir && /Users/biocbuild/BBS/utils/build-universal.sh CBNplot_1.11.0.tar.gz /Library/Frameworks/R.framework/Resources/bin/R CBNplot.buildbin-libdir StartedAt: 2025-11-20 01:24:39 -0500 (Thu, 20 Nov 2025) EndedAt: 2025-11-20 01:25:25 -0500 (Thu, 20 Nov 2025) EllapsedTime: 46.1 seconds RetCode: 0 Status: OK PackageFile: CBNplot_1.11.0.tgz PackageFileSize: 1.168 MiB