Package: CBNplot Version: 1.11.0 Command: /Library/Frameworks/R.framework/Resources/bin/R CMD build --keep-empty-dirs --no-resave-data CBNplot StartedAt: 2025-11-19 16:23:45 -0500 (Wed, 19 Nov 2025) EndedAt: 2025-11-19 16:24:55 -0500 (Wed, 19 Nov 2025) EllapsedTime: 69.7 seconds RetCode: 0 Status: OK PackageFile: CBNplot_1.11.0.tar.gz PackageFileSize: 1.029 MiB