Package: CBNplot Version: 1.11.0 Command: /Library/Frameworks/R.framework/Resources/bin/R CMD INSTALL CBNplot StartedAt: 2025-11-18 15:50:28 -0500 (Tue, 18 Nov 2025) EndedAt: 2025-11-18 15:51:10 -0500 (Tue, 18 Nov 2025) EllapsedTime: 42.1 seconds RetCode: 0 Status: OK