Package: CBNplot Version: 1.11.0 Command: /home/biocbuild/bbs-3.23-bioc/R/bin/R CMD INSTALL CBNplot StartedAt: 2025-11-18 16:41:56 -0500 (Tue, 18 Nov 2025) EndedAt: 2025-11-18 16:42:26 -0500 (Tue, 18 Nov 2025) EllapsedTime: 30.4 seconds RetCode: 0 Status: OK