Package: CCPROMISE Version: 1.37.0 Command: /Library/Frameworks/R.framework/Resources/bin/R CMD build --keep-empty-dirs --no-resave-data CCPROMISE StartedAt: 2025-11-20 15:50:34 -0500 (Thu, 20 Nov 2025) EndedAt: 2025-11-20 15:50:49 -0500 (Thu, 20 Nov 2025) EllapsedTime: 15.2 seconds RetCode: 0 Status: OK PackageFile: CCPROMISE_1.37.0.tar.gz PackageFileSize: 1.03 MiB