Package: CNORfuzzy Version: 1.53.0 Command: rm -rf CNORfuzzy.buildbin-libdir && mkdir CNORfuzzy.buildbin-libdir && /Users/biocbuild/BBS/utils/build-universal.sh CNORfuzzy_1.53.0.tar.gz /Library/Frameworks/R.framework/Resources/bin/R CNORfuzzy.buildbin-libdir StartedAt: 2025-11-19 23:28:44 -0500 (Wed, 19 Nov 2025) EndedAt: 2025-11-19 23:28:50 -0500 (Wed, 19 Nov 2025) EllapsedTime: 6.1 seconds RetCode: 0 Status: OK PackageFile: CNORfuzzy_1.53.0.tgz PackageFileSize: 691.4 KiB