Package: CNORfuzzy Version: 1.53.0 Command: /Library/Frameworks/R.framework/Resources/bin/R CMD build --keep-empty-dirs --no-resave-data CNORfuzzy StartedAt: 2025-11-19 15:57:57 -0500 (Wed, 19 Nov 2025) EndedAt: 2025-11-19 15:58:07 -0500 (Wed, 19 Nov 2025) EllapsedTime: 10.1 seconds RetCode: 0 Status: OK PackageFile: CNORfuzzy_1.53.0.tar.gz PackageFileSize: 921.7 KiB