Package: CNORfuzzy Version: 1.53.0 Command: /Library/Frameworks/R.framework/Resources/bin/R CMD INSTALL CNORfuzzy StartedAt: 2025-11-18 15:23:59 -0500 (Tue, 18 Nov 2025) EndedAt: 2025-11-18 15:24:15 -0500 (Tue, 18 Nov 2025) EllapsedTime: 15.6 seconds RetCode: 0 Status: OK