Package: CNORfuzzy Version: 1.53.0 Command: /home/biocbuild/bbs-3.23-bioc/R/bin/R CMD INSTALL CNORfuzzy StartedAt: 2025-11-18 16:08:37 -0500 (Tue, 18 Nov 2025) EndedAt: 2025-11-18 16:08:47 -0500 (Tue, 18 Nov 2025) EllapsedTime: 10.1 seconds RetCode: 0 Status: OK